BEGIN:VCALENDAR
VERSION:2.0
PRODID:-//Bemidji Career Academies - ECPv6.15.18//NONSGML v1.0//EN
CALSCALE:GREGORIAN
METHOD:PUBLISH
X-WR-CALNAME:Bemidji Career Academies
X-ORIGINAL-URL:https://bemidjicareeracademies.com
X-WR-CALDESC:Events for Bemidji Career Academies
REFRESH-INTERVAL;VALUE=DURATION:PT1H
X-Robots-Tag:noindex
X-PUBLISHED-TTL:PT1H
BEGIN:VTIMEZONE
TZID:America/Chicago
BEGIN:DAYLIGHT
TZOFFSETFROM:-0600
TZOFFSETTO:-0500
TZNAME:CDT
DTSTART:20200308T080000
END:DAYLIGHT
BEGIN:STANDARD
TZOFFSETFROM:-0500
TZOFFSETTO:-0600
TZNAME:CST
DTSTART:20201101T070000
END:STANDARD
BEGIN:DAYLIGHT
TZOFFSETFROM:-0600
TZOFFSETTO:-0500
TZNAME:CDT
DTSTART:20210314T080000
END:DAYLIGHT
BEGIN:STANDARD
TZOFFSETFROM:-0500
TZOFFSETTO:-0600
TZNAME:CST
DTSTART:20211107T070000
END:STANDARD
BEGIN:DAYLIGHT
TZOFFSETFROM:-0600
TZOFFSETTO:-0500
TZNAME:CDT
DTSTART:20220313T080000
END:DAYLIGHT
BEGIN:STANDARD
TZOFFSETFROM:-0500
TZOFFSETTO:-0600
TZNAME:CST
DTSTART:20221106T070000
END:STANDARD
BEGIN:DAYLIGHT
TZOFFSETFROM:-0600
TZOFFSETTO:-0500
TZNAME:CDT
DTSTART:20230312T080000
END:DAYLIGHT
BEGIN:STANDARD
TZOFFSETFROM:-0500
TZOFFSETTO:-0600
TZNAME:CST
DTSTART:20231105T070000
END:STANDARD
END:VTIMEZONE
BEGIN:VEVENT
DTSTART;TZID=America/Chicago:20220519T180000
DTEND;TZID=America/Chicago:20220519T193000
DTSTAMP:20260425T214313
CREATED:20211102T172005Z
LAST-MODIFIED:20211102T172005Z
UID:1784-1652983200-1652988600@bemidjicareeracademies.com
SUMMARY:Exploring: Lueken's Village Foods
DESCRIPTION:See Karen Vleck for details on how to register. \nkaren_vleck@isd31.net \n218-444-1600 x63702
URL:https://bemidjicareeracademies.com/events/exploring-luekens-village-foods-11/
CATEGORIES:Art & Design,Business,Culinary Arts,Exploring
END:VEVENT
BEGIN:VEVENT
DTSTART;TZID=America/Chicago:20220421T180000
DTEND;TZID=America/Chicago:20220421T193000
DTSTAMP:20260425T214313
CREATED:20211102T170836Z
LAST-MODIFIED:20211102T170836Z
UID:1769-1650564000-1650569400@bemidjicareeracademies.com
SUMMARY:Exploring: Lueken's Village Foods
DESCRIPTION:See Karen Vleck for details on how to register. \nkaren_vleck@isd31.net \n218-444-1600 x63702
URL:https://bemidjicareeracademies.com/events/exploring-luekens-village-foods-10/
CATEGORIES:Art & Design,Business,Culinary Arts,Exploring
END:VEVENT
BEGIN:VEVENT
DTSTART;TZID=America/Chicago:20220317T180000
DTEND;TZID=America/Chicago:20220317T193000
DTSTAMP:20260425T214313
CREATED:20211102T162526Z
LAST-MODIFIED:20211102T162526Z
UID:1753-1647540000-1647545400@bemidjicareeracademies.com
SUMMARY:Exploring: Lueken's Village Foods
DESCRIPTION:See Karen Vleck for details on how to register. \nkaren_vleck@isd31.net \n218-444-1600 x63702
URL:https://bemidjicareeracademies.com/events/exploring-luekens-village-foods-9/
CATEGORIES:Art & Design,Business,Culinary Arts,Exploring
END:VEVENT
BEGIN:VEVENT
DTSTART;TZID=America/Chicago:20220217T180000
DTEND;TZID=America/Chicago:20220217T193000
DTSTAMP:20260425T214313
CREATED:20211102T161946Z
LAST-MODIFIED:20211102T161946Z
UID:1739-1645120800-1645126200@bemidjicareeracademies.com
SUMMARY:Exploring: Lueken's Village Foods
DESCRIPTION:See Karen Vleck for details on how to register. \nkaren_vleck@isd31.net \n218-444-1600 x63702
URL:https://bemidjicareeracademies.com/events/exploring-luekens-village-foods-8/
CATEGORIES:Art & Design,Business,Culinary Arts,Exploring
END:VEVENT
BEGIN:VEVENT
DTSTART;TZID=America/Chicago:20211216T180000
DTEND;TZID=America/Chicago:20211216T193000
DTSTAMP:20260425T214313
CREATED:20211102T153456Z
LAST-MODIFIED:20211102T153523Z
UID:1709-1639677600-1639683000@bemidjicareeracademies.com
SUMMARY:Exploring: Lueken's Village Foods
DESCRIPTION:See Karen Vleck for details on how to register. \nkaren_vleck@isd31.net \n218-444-1600 x63702
URL:https://bemidjicareeracademies.com/events/exploring-luekens-village-foods-6/
CATEGORIES:Art & Design,Business,Culinary Arts,Exploring
END:VEVENT
BEGIN:VEVENT
DTSTART;TZID=America/Chicago:20211118T180000
DTEND;TZID=America/Chicago:20211118T193000
DTSTAMP:20260425T214313
CREATED:20211102T150328Z
LAST-MODIFIED:20211102T150349Z
UID:1693-1637258400-1637263800@bemidjicareeracademies.com
SUMMARY:Exploring: Lueken's Village Foods
DESCRIPTION:See Karen Vleck for details on how to register. \nkaren_vleck@isd31.net \n218-444-1600 x63702
URL:https://bemidjicareeracademies.com/events/exploring-luekens-village-foods-5/
CATEGORIES:Art & Design,Business,Culinary Arts,Exploring
END:VEVENT
BEGIN:VEVENT
DTSTART;TZID=America/Chicago:20211102T080000
DTEND;TZID=America/Chicago:20211102T170000
DTSTAMP:20260425T214313
CREATED:20211102T154936Z
LAST-MODIFIED:20211102T154936Z
UID:1723-1635840000-1635872400@bemidjicareeracademies.com
SUMMARY:Exploring: Lueken's Village Foods
DESCRIPTION:See Karen Vleck for details on how to register. \nkaren_vleck@isd31.net \n218-444-1600 x63702
URL:https://bemidjicareeracademies.com/events/exploring-luekens-village-foods-7/
CATEGORIES:Art & Design,Business,Culinary Arts,Exploring
END:VEVENT
BEGIN:VEVENT
DTSTART;TZID=America/Chicago:20210824T180000
DTEND;TZID=America/Chicago:20210824T193000
DTSTAMP:20260425T214313
CREATED:20210521T195811Z
LAST-MODIFIED:20210521T195811Z
UID:1291-1629828000-1629833400@bemidjicareeracademies.com
SUMMARY:Exploring: Lueken's Village Foods
DESCRIPTION:
URL:https://bemidjicareeracademies.com/events/exploring-luekens-village-foods-4/
CATEGORIES:Art & Design,Business,Culinary Arts,Exploring
END:VEVENT
BEGIN:VEVENT
DTSTART;TZID=America/Chicago:20210727T180000
DTEND;TZID=America/Chicago:20210727T193000
DTSTAMP:20260425T214313
CREATED:20210521T195543Z
LAST-MODIFIED:20210521T195543Z
UID:1285-1627408800-1627414200@bemidjicareeracademies.com
SUMMARY:Exploring: Lueken's Village Foods
DESCRIPTION:
URL:https://bemidjicareeracademies.com/events/exploring-luekens-village-foods-3/
CATEGORIES:Art & Design,Business,Culinary Arts,Exploring
END:VEVENT
BEGIN:VEVENT
DTSTART;TZID=America/Chicago:20210622T180000
DTEND;TZID=America/Chicago:20210622T193000
DTSTAMP:20260425T214313
CREATED:20210521T195242Z
LAST-MODIFIED:20210521T195242Z
UID:1281-1624384800-1624390200@bemidjicareeracademies.com
SUMMARY:Exploring: Lueken's Village Foods
DESCRIPTION:
URL:https://bemidjicareeracademies.com/events/exploring-luekens-village-foods-2/
CATEGORIES:Art & Design,Business,Culinary Arts,Exploring
END:VEVENT
BEGIN:VEVENT
DTSTART;TZID=America/Chicago:20210525T180000
DTEND;TZID=America/Chicago:20210525T193000
DTSTAMP:20260425T214313
CREATED:20210517T192045Z
LAST-MODIFIED:20210521T194031Z
UID:1265-1621965600-1621971000@bemidjicareeracademies.com
SUMMARY:Exploring: Lueken's Village Foods
DESCRIPTION:
URL:https://bemidjicareeracademies.com/events/exploring-luekens-village-foods/
CATEGORIES:Art & Design,Business,Culinary Arts,Exploring
END:VEVENT
END:VCALENDAR