BEGIN:VCALENDAR
VERSION:2.0
PRODID:-//Bemidji Career Academies - ECPv6.15.18//NONSGML v1.0//EN
CALSCALE:GREGORIAN
METHOD:PUBLISH
X-WR-CALNAME:Bemidji Career Academies
X-ORIGINAL-URL:https://bemidjicareeracademies.com
X-WR-CALDESC:Events for Bemidji Career Academies
REFRESH-INTERVAL;VALUE=DURATION:PT1H
X-Robots-Tag:noindex
X-PUBLISHED-TTL:PT1H
BEGIN:VTIMEZONE
TZID:America/Chicago
BEGIN:DAYLIGHT
TZOFFSETFROM:-0600
TZOFFSETTO:-0500
TZNAME:CDT
DTSTART:20200308T080000
END:DAYLIGHT
BEGIN:STANDARD
TZOFFSETFROM:-0500
TZOFFSETTO:-0600
TZNAME:CST
DTSTART:20201101T070000
END:STANDARD
BEGIN:DAYLIGHT
TZOFFSETFROM:-0600
TZOFFSETTO:-0500
TZNAME:CDT
DTSTART:20210314T080000
END:DAYLIGHT
BEGIN:STANDARD
TZOFFSETFROM:-0500
TZOFFSETTO:-0600
TZNAME:CST
DTSTART:20211107T070000
END:STANDARD
BEGIN:DAYLIGHT
TZOFFSETFROM:-0600
TZOFFSETTO:-0500
TZNAME:CDT
DTSTART:20220313T080000
END:DAYLIGHT
BEGIN:STANDARD
TZOFFSETFROM:-0500
TZOFFSETTO:-0600
TZNAME:CST
DTSTART:20221106T070000
END:STANDARD
BEGIN:DAYLIGHT
TZOFFSETFROM:-0600
TZOFFSETTO:-0500
TZNAME:CDT
DTSTART:20230312T080000
END:DAYLIGHT
BEGIN:STANDARD
TZOFFSETFROM:-0500
TZOFFSETTO:-0600
TZNAME:CST
DTSTART:20231105T070000
END:STANDARD
END:VTIMEZONE
BEGIN:VEVENT
DTSTART;TZID=America/Chicago:20220523T153000
DTEND;TZID=America/Chicago:20220523T163000
DTSTAMP:20260419T180248
CREATED:20211102T172054Z
LAST-MODIFIED:20211102T172054Z
UID:1786-1653319800-1653323400@bemidjicareeracademies.com
SUMMARY:Exploring: Hill's Country Greenhouse
DESCRIPTION:See Karen Vleck for details on how to register. \nkaren_vleck@isd31.net \n218-444-1600 x63702
URL:https://bemidjicareeracademies.com/events/exploring-hills-country-greenhouse-5/
CATEGORIES:Agriculture,Art & Design,Business,Exploring
END:VEVENT
BEGIN:VEVENT
DTSTART;TZID=America/Chicago:20220425T153000
DTEND;TZID=America/Chicago:20220425T163000
DTSTAMP:20260419T180248
CREATED:20211102T171016Z
LAST-MODIFIED:20211102T171016Z
UID:1771-1650900600-1650904200@bemidjicareeracademies.com
SUMMARY:Exploring: Hill's Country Greenhouse
DESCRIPTION:See Karen Vleck for details on how to register. \nkaren_vleck@isd31.net \n218-444-1600 x63702
URL:https://bemidjicareeracademies.com/events/exploring-hills-country-greenhouse-4/
CATEGORIES:Agriculture,Art & Design,Business,Exploring
END:VEVENT
BEGIN:VEVENT
DTSTART;TZID=America/Chicago:20220328T153000
DTEND;TZID=America/Chicago:20220328T163000
DTSTAMP:20260419T180248
CREATED:20211102T162646Z
LAST-MODIFIED:20211102T162646Z
UID:1755-1648481400-1648485000@bemidjicareeracademies.com
SUMMARY:Exploring: Hill's Country Greenhouse
DESCRIPTION:See Karen Vleck for details on how to register. \nkaren_vleck@isd31.net \n218-444-1600 x63702
URL:https://bemidjicareeracademies.com/events/exploring-hills-country-greenhouse-3/
CATEGORIES:Agriculture,Art & Design,Business,Exploring
END:VEVENT
BEGIN:VEVENT
DTSTART;TZID=America/Chicago:20211213T153000
DTEND;TZID=America/Chicago:20211213T163000
DTSTAMP:20260419T180248
CREATED:20211102T152145Z
LAST-MODIFIED:20211102T152820Z
UID:1701-1639409400-1639413000@bemidjicareeracademies.com
SUMMARY:Exploring: Hill's Country Greenhouse
DESCRIPTION:See Karen Vleck for details on how to register. \nkaren_vleck@isd31.net \n218-444-1600 x63702
URL:https://bemidjicareeracademies.com/events/exploring-hills-country-greenhouse-2/
CATEGORIES:Agriculture,Art & Design,Business,Exploring
END:VEVENT
BEGIN:VEVENT
DTSTART;TZID=America/Chicago:20211129T153000
DTEND;TZID=America/Chicago:20211129T163000
DTSTAMP:20260419T180248
CREATED:20211102T150454Z
LAST-MODIFIED:20211102T150454Z
UID:1695-1638199800-1638203400@bemidjicareeracademies.com
SUMMARY:Exploring: Hill's Country Greenhouse
DESCRIPTION:See Karen Vleck for details on how to register. \nkaren_vleck@isd31.net \n218-444-1600 x63702
URL:https://bemidjicareeracademies.com/events/exploring-hills-country-greenhouse/
CATEGORIES:Agriculture,Art & Design,Business,Exploring
END:VEVENT
END:VCALENDAR